BEGIN:VCALENDAR
VERSION:2.0
PRODID:-//Toskani USA - ECPv6.0.0.1//NONSGML v1.0//EN
CALSCALE:GREGORIAN
METHOD:PUBLISH
X-WR-CALNAME:Toskani USA
X-ORIGINAL-URL:https://toskani.com/us
X-WR-CALDESC:Events for Toskani USA
REFRESH-INTERVAL;VALUE=DURATION:PT1H
X-Robots-Tag:noindex
X-PUBLISHED-TTL:PT1H
BEGIN:VTIMEZONE
TZID:UTC
BEGIN:STANDARD
TZOFFSETFROM:+0000
TZOFFSETTO:+0000
TZNAME:UTC
DTSTART:20240101T000000
END:STANDARD
END:VTIMEZONE
BEGIN:VEVENT
DTSTART;TZID=UTC:20240222T080000
DTEND;TZID=UTC:20240224T170000
DTSTAMP:20260421T131715
CREATED:20240110T095342Z
LAST-MODIFIED:20240129T123543Z
UID:6175-1708588800-1708794000@toskani.com
SUMMARY:AMWC NORTH AMERICA 2024
DESCRIPTION:The Aesthetic & Anti-Aging Medicine World Congress – Americas (AMWC Americas) conference addresses the science\, practice and techniques of aesthetic surgery and medicine. With a faculty featuring the foremost researchers\, educators and practitioners\, this event will provide cutting-edge content to advance knowledge\, enhance skills and techniques\, and improve outcomes in the areas of aesthetic medicine\, cosmetic surgery\, and anti-aging
URL:https://toskani.com/us/event/amwc-north-america-2024/
LOCATION:AMWC NORTH AMERICA\, 1901 Convention Ctr Dr\, Miami Beach\, FL\, 33139\, United States
ATTACH;FMTTYPE=image/jpeg:https://toskani.com/us/wp-content/uploads/sites/15/2024/01/Post_AMWC_Miami_1.jpg
END:VEVENT
BEGIN:VEVENT
DTSTART;TZID=UTC:20240224T200000
DTEND;TZID=UTC:20240224T233000
DTSTAMP:20260421T131715
CREATED:20240129T125253Z
LAST-MODIFIED:20240131T153649Z
UID:6412-1708804800-1708817400@toskani.com
SUMMARY:Be part of the future
DESCRIPTION:On February 24th come celebrate with us the launch of TOSKANIMED IN US. We wait for you from 8pm to 12pm at THE TEMPLE HOUSE\, Miami beach.
URL:https://toskani.com/us/event/be-part-of-the-future/
LOCATION:Be part of the future\, 1415 Euclid Ave\, Miami\, FL\, 33139\, United States
ATTACH;FMTTYPE=image/png:https://toskani.com/us/wp-content/uploads/sites/15/2024/01/MicrosoftTeams-image-1-e1706532830853.png
END:VEVENT
END:VCALENDAR